BEGIN:VCALENDAR
VERSION:2.0
PRODID:-//Far South Coast Branch of Surf Lifesaving Australia (SLSA) - ECPv6.15.20//NONSGML v1.0//EN
CALSCALE:GREGORIAN
METHOD:PUBLISH
X-WR-CALNAME:Far South Coast Branch of Surf Lifesaving Australia (SLSA)
X-ORIGINAL-URL:https://fscbranchsls.com
X-WR-CALDESC:Events for Far South Coast Branch of Surf Lifesaving Australia (SLSA)
REFRESH-INTERVAL;VALUE=DURATION:PT1H
X-Robots-Tag:noindex
X-PUBLISHED-TTL:PT1H
BEGIN:VTIMEZONE
TZID:Australia/Sydney
BEGIN:STANDARD
TZOFFSETFROM:+1100
TZOFFSETTO:+1000
TZNAME:AEST
DTSTART:20250405T160000
END:STANDARD
BEGIN:DAYLIGHT
TZOFFSETFROM:+1000
TZOFFSETTO:+1100
TZNAME:AEDT
DTSTART:20251004T160000
END:DAYLIGHT
BEGIN:STANDARD
TZOFFSETFROM:+1100
TZOFFSETTO:+1000
TZNAME:AEST
DTSTART:20260404T160000
END:STANDARD
BEGIN:DAYLIGHT
TZOFFSETFROM:+1000
TZOFFSETTO:+1100
TZNAME:AEDT
DTSTART:20261003T160000
END:DAYLIGHT
BEGIN:STANDARD
TZOFFSETFROM:+1100
TZOFFSETTO:+1000
TZNAME:AEST
DTSTART:20270403T160000
END:STANDARD
BEGIN:DAYLIGHT
TZOFFSETFROM:+1000
TZOFFSETTO:+1100
TZNAME:AEDT
DTSTART:20271002T160000
END:DAYLIGHT
END:VTIMEZONE
BEGIN:VEVENT
DTSTART;VALUE=DATE:20260123
DTEND;VALUE=DATE:20260126
DTSTAMP:20260424T063603
CREATED:20250914T231559Z
LAST-MODIFIED:20250914T232312Z
UID:39436-1769126400-1769385599@fscbranchsls.com
SUMMARY:2026 NSW Country Championships
DESCRIPTION:
URL:https://fscbranchsls.com/event/2026-nsw-country-championships/
LOCATION:South West Rocks SLSC\, 1 Linvingstone Street\, South West Roacks\, New South Wales\, 2431\, Australia
CATEGORIES:SURF SPORT
END:VEVENT
END:VCALENDAR