BEGIN:VCALENDAR
VERSION:2.0
PRODID:-//Far South Coast Branch of Surf Lifesaving Australia (SLSA) - ECPv6.15.20//NONSGML v1.0//EN
CALSCALE:GREGORIAN
METHOD:PUBLISH
X-ORIGINAL-URL:https://fscbranchsls.com
X-WR-CALDESC:Events for Far South Coast Branch of Surf Lifesaving Australia (SLSA)
REFRESH-INTERVAL;VALUE=DURATION:PT1H
X-Robots-Tag:noindex
X-PUBLISHED-TTL:PT1H
BEGIN:VTIMEZONE
TZID:Australia/Sydney
BEGIN:STANDARD
TZOFFSETFROM:+1100
TZOFFSETTO:+1000
TZNAME:AEST
DTSTART:20240406T160000
END:STANDARD
BEGIN:DAYLIGHT
TZOFFSETFROM:+1000
TZOFFSETTO:+1100
TZNAME:AEDT
DTSTART:20241005T160000
END:DAYLIGHT
BEGIN:STANDARD
TZOFFSETFROM:+1100
TZOFFSETTO:+1000
TZNAME:AEST
DTSTART:20250405T160000
END:STANDARD
BEGIN:DAYLIGHT
TZOFFSETFROM:+1000
TZOFFSETTO:+1100
TZNAME:AEDT
DTSTART:20251004T160000
END:DAYLIGHT
BEGIN:STANDARD
TZOFFSETFROM:+1100
TZOFFSETTO:+1000
TZNAME:AEST
DTSTART:20260404T160000
END:STANDARD
BEGIN:DAYLIGHT
TZOFFSETFROM:+1000
TZOFFSETTO:+1100
TZNAME:AEDT
DTSTART:20261003T160000
END:DAYLIGHT
END:VTIMEZONE
BEGIN:VEVENT
DTSTART;TZID=Australia/Sydney:20250920T090000
DTEND;TZID=Australia/Sydney:20250920T140000
DTSTAMP:20260425T015736
CREATED:20250911T023922Z
LAST-MODIFIED:20250911T023922Z
UID:39423-1758358800-1758376800@fscbranchsls.com
SUMMARY:FSCB TAF Season Refresher
DESCRIPTION:
URL:https://fscbranchsls.com/event/fscb-taf-season-refresher/
LOCATION:Narooma SLSC\, Willcocks Avenue\, Narooma\, NSW\, 2546\, Australia
CATEGORIES:EDUCATION
ORGANIZER;CN="Director of Education":MAILTO:education@fscbranchsls.com
END:VEVENT
END:VCALENDAR